BEGIN:VCALENDAR
VERSION:2.0
PRODID:-//urwahl3000//gruene-rommerskirchen.de//DE
CALSCALE:GREGORIAN
BEGIN:VEVENT
DTSTART:20260323T183000
DTEND:20260323T183000
LOCATION:Fraktionsbüro\,  Giller Straße 2a Rommerskirchen
DTSTAMP:20260323T183000
SUMMARY:Fraktionssprechstunde
URL;VALUE=URI:https://gruene-rommerskirchen.de/termin/fraktionssprechstunde/
DESCRIPTION:Aktuelle Fragen zur Kommunalpolitik können persönlich am besten geklärt werden. Sei es zur Rheinwassertransportleitung, zu Neubaugebieten, zur Windkraft, zur B477n, zur Situation in Schulen und Kindergärten, zur medizinischen Versorgung, zum Gemeindehaushalt oder zum Klimawandel...

Die Mitglieder der Ratsfraktion stehen Rede und Antwort und geben gern einen Einblick ihre Arbeit.

Am Besten schreiben Sie uns zuvor eine kurze Email an <a href="mailto:fraktion@gruene-rommerskirchen.de">fraktion@gruene-rommerskirchen.de</a> oder nutzen Sie das <a href="https://gruene-rommerskirchen.de/kontakt/">Kontaktformular</a>, damit alle genügend Zeit für das Gespräch haben.

Für weitere Informationen <a href="https://gruene-rommerskirchen.de/fraktion/">klick hier</a>.
UID:20260323T183000-20260323T183000-20260323T183000
END:VEVENT
END:VCALENDAR