BEGIN:VCALENDAR
VERSION:2.0
PRODID:-//urwahl3000//gruene-rommerskirchen.de//DE
CALSCALE:GREGORIAN
BEGIN:VEVENT
DTSTART:20260423T173000
DTEND:20260423T173000
LOCATION:Ratssaal im Rathaus Rommerskirchen 
DTSTAMP:20260423T173000
SUMMARY:Gemeinderatssitzung
URL;VALUE=URI:https://gruene-rommerskirchen.de/termin/6-gemeinderatssitzung/
DESCRIPTION:Siehe auch

<a href="https://www.buergerinfo.rommerskirchen.de/info.php">https://www.buergerinfo.rommerskirchen.de/info.php</a>
UID:20260423T173000-20260423T173000-20260423T173000
END:VEVENT
END:VCALENDAR